BEGIN:VCALENDAR
VERSION:2.0
PRODID:-//HealthInsuranceCE - ECPv6.15.11//NONSGML v1.0//EN
CALSCALE:GREGORIAN
METHOD:PUBLISH
X-ORIGINAL-URL:https://www.healthinsurancece.com
X-WR-CALDESC:Events for HealthInsuranceCE
REFRESH-INTERVAL;VALUE=DURATION:PT1H
X-Robots-Tag:noindex
X-PUBLISHED-TTL:PT1H
BEGIN:VTIMEZONE
TZID:America/New_York
BEGIN:DAYLIGHT
TZOFFSETFROM:-0500
TZOFFSETTO:-0400
TZNAME:EDT
DTSTART:20240310T070000
END:DAYLIGHT
BEGIN:STANDARD
TZOFFSETFROM:-0400
TZOFFSETTO:-0500
TZNAME:EST
DTSTART:20241103T060000
END:STANDARD
BEGIN:DAYLIGHT
TZOFFSETFROM:-0500
TZOFFSETTO:-0400
TZNAME:EDT
DTSTART:20250309T070000
END:DAYLIGHT
BEGIN:STANDARD
TZOFFSETFROM:-0400
TZOFFSETTO:-0500
TZNAME:EST
DTSTART:20251102T060000
END:STANDARD
BEGIN:DAYLIGHT
TZOFFSETFROM:-0500
TZOFFSETTO:-0400
TZNAME:EDT
DTSTART:20260308T070000
END:DAYLIGHT
BEGIN:STANDARD
TZOFFSETFROM:-0400
TZOFFSETTO:-0500
TZNAME:EST
DTSTART:20261101T060000
END:STANDARD
BEGIN:DAYLIGHT
TZOFFSETFROM:-0500
TZOFFSETTO:-0400
TZNAME:EDT
DTSTART:20270314T070000
END:DAYLIGHT
BEGIN:STANDARD
TZOFFSETFROM:-0400
TZOFFSETTO:-0500
TZNAME:EST
DTSTART:20271107T060000
END:STANDARD
END:VTIMEZONE
BEGIN:VTIMEZONE
TZID:America/Chicago
BEGIN:DAYLIGHT
TZOFFSETFROM:-0600
TZOFFSETTO:-0500
TZNAME:CDT
DTSTART:20250309T080000
END:DAYLIGHT
BEGIN:STANDARD
TZOFFSETFROM:-0500
TZOFFSETTO:-0600
TZNAME:CST
DTSTART:20251102T070000
END:STANDARD
BEGIN:DAYLIGHT
TZOFFSETFROM:-0600
TZOFFSETTO:-0500
TZNAME:CDT
DTSTART:20260308T080000
END:DAYLIGHT
BEGIN:STANDARD
TZOFFSETFROM:-0500
TZOFFSETTO:-0600
TZNAME:CST
DTSTART:20261101T070000
END:STANDARD
BEGIN:DAYLIGHT
TZOFFSETFROM:-0600
TZOFFSETTO:-0500
TZNAME:CDT
DTSTART:20270314T080000
END:DAYLIGHT
BEGIN:STANDARD
TZOFFSETFROM:-0500
TZOFFSETTO:-0600
TZNAME:CST
DTSTART:20271107T070000
END:STANDARD
END:VTIMEZONE
BEGIN:VEVENT
DTSTART;TZID=America/New_York:20251113T100000
DTEND;TZID=America/New_York:20251113T120000
DTSTAMP:20260423T191823
CREATED:20250818T093158Z
LAST-MODIFIED:20251112T201914Z
UID:26303-1763028000-1763035200@www.healthinsurancece.com
SUMMARY:November 13– Be Careful What You Wish For\, Part 1 (24 Tennessee credits including Ethics)
DESCRIPTION:This program starts at 10:00 Eastern\, 9:00 Central\, 8:00 Mountain time\nThe development of and implications of our commercial healthcare system. Follow this simple 3-step process. \nRead these texts in advance \n\nCommercial Health Ins Issues 21 credits\, Tennessee course #6000186528\, pdf under Texts on this website\, available after you login.\nEthical Insurance Advising 3 Ethics credits\, Tennessee course #6000185342\, pdf available on this website under Texts after you login.\n\nAttend the 30 minute Zoom lecture ‘Be Careful What You Wish For Part I’ on November 13 at 10:00 Eastern Time / 9:00 Central \n\nJoin Zoom Meeting\nhttps://us02web.zoom.us/j/84036398043?pwd=boC93boSbX4jFVVsaljZ32WwcDlquF.1\nGary Fradin will discuss some key structural problems with commercial health insurance.\n\nTake the exams on the 2 texts after the lecture on this website. \n\nAbout 30 minutes / exam. Graded immediately. Retakes available as necessary. Finish by end-of-work on November 13.\nYou will receive detailed exam access instructions a few days in advance.\n\nThis is Part 1 of an envisioned 2 part CE program. The second part entitled Be Careful What You Wish For Part II\, worth an additional / different 24 CE credits\, will address structural problems with public / single payer health insurance. Tentatively scheduled for 2026 or 2027. \nMoney back guarantee: We will refund your money if\, for any reason\, you do not like this program. This offer extends up to the time we report credits. \n***** \nProcessing your order will take about 15 seconds. Do not refresh or reorder while you wait. The site will tell you when your order is complete. You will also receive confirmation by email.
URL:https://www.healthinsurancece.com/event/november-13-be-careful-what-you-wish-for-part-1-24-tennessee-credits-including-ethics/
LOCATION:Zoom\, Your office\, Your city
CATEGORIES:Tennessee
END:VEVENT
BEGIN:VEVENT
DTSTART;TZID=America/New_York:20260113T100000
DTEND;TZID=America/New_York:20260113T233000
DTSTAMP:20260423T191823
CREATED:20251106T172007Z
LAST-MODIFIED:20251113T174035Z
UID:26939-1768298400-1768347000@www.healthinsurancece.com
SUMMARY:January 13 - Be Careful What You Wish For\, Part 1 (24 Tennessee credits including Ethics)
DESCRIPTION:The development of and implications of our commercial healthcare system. Follow this simple 3-step process. \nRead these texts \n\nCommercial Health Ins Issues 21 credits\, Tennessee course #6000186528\, pdf on this website under Texts after you login.\nEthical Insurance Advising 3 Ethics credits\, Tennessee course #6000185342\, pdf available on this website under Texts after you login.\n\nAttend the 30 minute Zoom lecture ‘Be Careful What You Wish For\, Part 1’ on  January 13 at 10:00 Eastern Time / 9:00 Central \n\nJoin Zoom Meeting\nhttps://us02web.zoom.us/j/83442320021?pwd=QvvOwGRI092aUu9iP26kUiV2brw0IH.1\nGary Fradin will discuss some key structural problems with commercial health insurance.\n\nTake the exams on the 2 texts listed after the lecture. \n\nAbout 30 minutes / exam. Graded immediately. Retakes available as necessary. Finish by end-of-work on January 13.\nYou will receive detailed exam access instructions a few days in advance.\n\nThis is Part 1 of an envisioned 2 part CE program. The second part entitled Be Careful What You Wish For Part II\, worth an additional / different 24 CE credits\, will address structural problems with public / single payer health insurance. Tentatively scheduled for 2026 or 2027. \nMoney back guarantee: We will refund your money if\, for any reason\, you do not like this program. This offer extends up to the time we report credits. \n***** \nProcessing your order will take about 15 seconds. Do not refresh or reorder while you wait. The site will tell you when your order is complete. You will also receive confirmation by email.
URL:https://www.healthinsurancece.com/event/january-13-be-careful-what-you-wish-for-part-1-24-tennessee-credits-including-ethics/
LOCATION:Zoom\, Your office\, Your city
CATEGORIES:Tennessee
END:VEVENT
BEGIN:VEVENT
DTSTART;TZID=America/New_York:20260123T100000
DTEND;TZID=America/New_York:20260123T233000
DTSTAMP:20260423T191823
CREATED:20251106T181305Z
LAST-MODIFIED:20251113T173956Z
UID:26983-1769162400-1769211000@www.healthinsurancece.com
SUMMARY:January 23 - Be Careful What You Wish For\, Part 1 (24 Tennessee credits including Ethics)
DESCRIPTION:The development of and implications of our commercial healthcare system. Follow this simple 3-step process. \nRead these texts \n\nCommercial Health Ins Issues 21 credits\, Tennessee course #6000186528\, pdf on this website under Texts after you login.\nEthical Insurance Advising 3 Ethics credits\, Tennessee course #6000185342\, pdf available on this website under Texts after you login.\n\nAttend the 30 minute Zoom lecture ‘Be Careful What You Wish For\, Part 1’ on  January 23 at 10:00 Eastern Time / 9:00 Central \n\nJoin Zoom Meeting\nhttps://us02web.zoom.us/j/81029029105?pwd=wH6K05rVUP6Xutcct0PuCCwxHWTDeH.1\nGary Fradin will discuss some key structural problems with commercial health insurance.\n\nTake the exams on the 2 texts listed after the lecture. \n\nAbout 30 minutes / exam. Graded immediately. Retakes available as necessary. Finish by end-of-work on January 23.\nYou will receive detailed exam access instructions a few days in advance.\n\nThis is Part 1 of an envisioned 2 part CE program. The second part entitled Be Careful What You Wish For Part II worth an additional / different 24 CE credits\, will address structural problems with public / single payer health insurance. Tentatively scheduled for late 2026 and 2027. \nMoney back guarantee: We will refund your money if\, for any reason\, you do not like this program. This offer extends up to the time we report credits. \n***** \nProcessing your order will take about 15 seconds. Do not refresh or reorder while you wait. The site will tell you when your order is complete. You will also receive confirmation by email.
URL:https://www.healthinsurancece.com/event/january-23-be-careful-what-you-wish-for-part-1-24-tennessee-credits-including-ethics/
LOCATION:Zoom\, Your office\, Your city
CATEGORIES:Tennessee
END:VEVENT
BEGIN:VEVENT
DTSTART;TZID=America/Chicago:20260206T090000
DTEND;TZID=America/Chicago:20260206T110000
DTSTAMP:20260423T191823
CREATED:20251110T164834Z
LAST-MODIFIED:20260127T171933Z
UID:27028-1770368400-1770375600@www.healthinsurancece.com
SUMMARY:February 6 – Be Careful What You Wish For\, Part 1 (24 Tennessee credits including Ethics)
DESCRIPTION:The development of and implications of our commercial healthcare system. Follow this simple 3-step process. \nRead these texts \n\nCommercial Health Ins Issues 21 credits\, Tennessee course #6000186528\, pdf on this website under Texts after you login.\nEthical Insurance Advising 3 Ethics credits\, Tennessee course #6000185342\, pdf available on this website under Texts after you login.\n\nAttend the 30 minute Zoom lecture ‘Be Careful What You Wish For\, Part 1’ on  February 6 at 10:00 Eastern Time / 9:00 Central \n\nJoin Zoom Meeting\nhttps://us02web.zoom.us/j/83941085275?pwd=lbkAiIgslApQNcf2normVdbzAScW4b.1\nGary Fradin will discuss some key structural problems with commercial health insurance.\n\nTake the exams on the 2 texts listed after the lecture. \n\nAbout 30 minutes / exam. Graded immediately. Retakes available as necessary. Finish by end-of-work on February 6.\nYou will receive detailed exam access instructions a few days in advance.\n\nThis is Part 1 of an envisioned 2 part CE program. The second part entitled Be Careful What You Wish For Part II worth an additional / different 24 CE credits\, will address structural problems with public / single payer health insurance. Tentatively scheduled for late 2026 and 2027. \nMoney back guarantee: We will refund your money if\, for any reason\, you do not like this program. This offer extends up to the time we report credits. \n***** \nProcessing your order will take about 15 seconds. Do not refresh or reorder while you wait. The site will tell you when your order is complete. You will also receive confirmation by email.
URL:https://www.healthinsurancece.com/event/february-6-be-careful-what-you-wish-for-part-1-24-tennessee-credits-including-ethics/
LOCATION:Zoom\, Your office\, Your city
CATEGORIES:Tennessee
END:VEVENT
BEGIN:VEVENT
DTSTART;TZID=America/Chicago:20260218T090000
DTEND;TZID=America/Chicago:20260218T110000
DTSTAMP:20260423T191823
CREATED:20251110T172551Z
LAST-MODIFIED:20260127T172026Z
UID:27062-1771405200-1771412400@www.healthinsurancece.com
SUMMARY:February 18 – Be Careful What You Wish For\, Part 1 (24 Tennessee credits including Ethics)
DESCRIPTION:The development of and implications of our commercial healthcare system. Follow this simple 3-step process. \nRead these texts \n\nCommercial Health Ins Issues 21 credits\, Tennessee course #6000186528\, pdf on this website under Texts after you login.\nEthical Insurance Advising 3 Ethics credits\, Tennessee course #6000185342\, pdf available on this website under Texts after you login.\n\nAttend the 30 minute Zoom lecture ‘Be Careful What You Wish For\, Part 1’ on  February 18 at 10:00 Eastern Time / 9:00 Central \n\nJoin Zoom Meeting\nhttps://us02web.zoom.us/j/89073996937?pwd=Sob2qoTH3piZ4oEGNUWMS3dBWGYC2q.1\nGary Fradin will discuss some key structural problems with commercial health insurance.\n\nTake the exams on the 2 texts listed after the lecture. \n\nAbout 30 minutes / exam. Graded immediately. Retakes available as necessary. Finish by end-of-work on February 18.\nYou will receive detailed exam access instructions a few days in advance.\n\nThis is Part 1 of an envisioned 2 part CE program. The second part entitled Be Careful What You Wish For Part II worth an additional / different 24 CE credits\, will address structural problems with public / single payer health insurance. Tentatively scheduled for late 2026 and 2027. \nMoney back guarantee: We will refund your money if\, for any reason\, you do not like this program. This offer extends up to the time we report credits. \n***** \nProcessing your order will take about 15 seconds. Do not refresh or reorder while you wait. The site will tell you when your order is complete. You will also receive confirmation by email.
URL:https://www.healthinsurancece.com/event/february-18-be-careful-what-you-wish-for-part-1-24-tennessee-credits-including-ethics/
LOCATION:Zoom\, Your office\, Your city
CATEGORIES:Tennessee
END:VEVENT
BEGIN:VEVENT
DTSTART;TZID=America/Chicago:20260318T090000
DTEND;TZID=America/Chicago:20260318T110000
DTSTAMP:20260423T191823
CREATED:20260114T101532Z
LAST-MODIFIED:20260127T172107Z
UID:28836-1773824400-1773831600@www.healthinsurancece.com
SUMMARY:March 18 - Be Careful What You Wish For\, Part 1 (24 Tennessee credits including ethics)
DESCRIPTION:The development of and implications of our commercial healthcare system. Follow this simple 3-step process. \nRead these texts \n\nCommercial Health Ins Issues 21 credits\, Tennessee course #6000186528\, pdf on this website under Texts after you login.\nEthical Insurance Advising 3 Ethics credits\, Tennessee course #6000185342\, pdf available on this website under Texts after you login.\n\nAttend the 30 minute Zoom lecture ‘Be Careful What You Wish For\, Part 1’ on  March 18 at 10:00 Eastern Time / 9:00 Central \n\nJoin Zoom Meeting\nhttps://us02web.zoom.us/j/89073996937?pwd=Sob2qoTH3piZ4oEGNUWMS3dBWGYC2q.1\nGary Fradin will discuss some key structural problems with commercial health insurance.\n\nTake the exams on the 2 texts listed after the lecture. \n\nAbout 30 minutes / exam. Graded immediately. Retakes available as necessary. Finish by end-of-work on March 18.\nYou will receive detailed exam access instructions a few days in advance.\n\nThis is Part 1 of an envisioned 2 part CE program. The second part entitled Be Careful What You Wish For Part II\, worth an additional / different 24 CE credits\, will address structural problems with public / single payer health insurance. Tentatively scheduled for 2026 or 2027. \nMoney back guarantee: We will refund your money if\, for any reason\, you do not like this program. This offer extends up to the time we report credits. \n***** \nProcessing your order will take about 15 seconds. Do not refresh or reorder while you wait. The site will tell you when your order is complete. You will also receive confirmation by email.
URL:https://www.healthinsurancece.com/event/march-18-be-careful-what-you-wish-for-part-1-24-tennessee-credits-including-ethics/
LOCATION:Zoom\, Your office\, Your city
CATEGORIES:Tennessee
END:VEVENT
BEGIN:VEVENT
DTSTART;TZID=America/Chicago:20260417T090000
DTEND;TZID=America/Chicago:20260417T110000
DTSTAMP:20260423T191823
CREATED:20260114T101948Z
LAST-MODIFIED:20260301T135537Z
UID:28840-1776416400-1776423600@www.healthinsurancece.com
SUMMARY:April 17 - Be Careful What You Wish For\, Expanded Public Health Ins (24 Tennessee credits including ethics)
DESCRIPTION:Can a Medicare for All type single payer system solve our healthcare problems? Follow this simple 3-step process. \nRead these texts \n\nHealth Insurance Overview\, 24 credits\, Tennessee course #6000190629\, pdf on this website under Texts after you login.\nEthical Insurance Advising II\, 3 ethics credits\, Tennessee course #6000192476\, pdf available on this website under Texts after you login.\n\nAttend the 30 minute Zoom lecture ‘Be Careful What You Wish For\, Expanded Public Health Ins’ on April 17 at 10:00 Eastern Time / 9:00 Central \n\nJoin Zoom Meeting\nhttps://us02web.zoom.us/j/82205199901?pwd=QOXt5apYiTabz1r8x8fQwZsne63tOr.1\nGary Fradin will discuss some key structural problems with national single payer health insurance.\n\nTake the exams on the 2 texts listed after the lecture. \n\nAbout 30 minutes / exam. Graded immediately. Retakes available as necessary. Finish by end-of-work on April 17.\nYou will receive detailed exam access instructions a few days in advance.\n\nMoney back guarantee: We will refund your money if\, for any reason\, you do not like this program. This offer extends up to the time we report credits. \n***** \nProcessing your order will take about 15 seconds. Do not refresh or reorder while you wait. The site will tell you when your order is complete. You will also receive confirmation by email.
URL:https://www.healthinsurancece.com/event/april-17-be-careful-what-you-wish-for-part-ii-24-tennessee-credits-including-ethics/
LOCATION:Zoom\, Your office\, Your city
CATEGORIES:Tennessee
END:VEVENT
BEGIN:VEVENT
DTSTART;TZID=America/Chicago:20260512T090000
DTEND;TZID=America/Chicago:20260512T110000
DTSTAMP:20260423T191823
CREATED:20260114T102224Z
LAST-MODIFIED:20260301T135602Z
UID:28844-1778576400-1778583600@www.healthinsurancece.com
SUMMARY:May 12 - Be Careful What You Wish For\, Expanded Public Health Ins (24 Tennessee credits including ethics)
DESCRIPTION:Can a Medicare for All type single payer system solve our healthcare problems? Follow this simple 3-step process. \nRead these texts \n\nHealth Insurance Overview\, 24 credits\, Tennessee course #6000190629\, pdf on this website under Texts after you login.\nEthical Insurance Advising II\, 3 ethics credits\, Tennessee course #6000192042\, pdf available on this website under Texts after you login.\n\nAttend the 30 minute Zoom lecture ‘Be Careful What You Wish For\, Expanded Public Health Ins’ on May 12 at 10:00 Eastern Time / 9:00 Central \n\nJoin Zoom Meeting\nhttps://us02web.zoom.us/j/86709620772?pwd=nyf9Cdq1FJdW1WNCGlCRES7FdLJ1oO.1\nGary Fradin will discuss some key structural problems with national single payer health insurance.\n\nTake the exams on the 2 texts listed after the lecture. \n\nAbout 30 minutes / exam. Graded immediately. Retakes available as necessary. Finish by end-of-work on May 12.\nYou will receive detailed exam access instructions a few days in advance.\n\nMoney back guarantee: We will refund your money if\, for any reason\, you do not like this program. This offer extends up to the time we report credits. \n***** \nProcessing your order will take about 15 seconds. Do not refresh or reorder while you wait. The site will tell you when your order is complete. You will also receive confirmation by email.
URL:https://www.healthinsurancece.com/event/may-12-be-careful-what-you-wish-for-part-ii-24-tennessee-credits-including-ethics/
LOCATION:Zoom\, Your office\, Your city
CATEGORIES:Tennessee
END:VEVENT
BEGIN:VEVENT
DTSTART;TZID=America/Chicago:20260610T090000
DTEND;TZID=America/Chicago:20260610T110000
DTSTAMP:20260423T191823
CREATED:20260114T102442Z
LAST-MODIFIED:20260306T142305Z
UID:28847-1781082000-1781089200@www.healthinsurancece.com
SUMMARY:June 10 - Be Careful What You Wish For\, Expanded Public Health Ins (24 Tennessee credits including ethics)
DESCRIPTION:Can a Medicare for All type single payer system solve our healthcare problems? Follow this simple 3-step process. \nRead these texts \n\nHealth Insurance Overview\, 21 credits\, Tennessee course #6000190629\, pdf on this website under Texts after you login.\nEthical Insurance Advising II\, 3 ethics credits\, Tennessee course #6000192042\, pdf available on this website under Texts after you login.\n\nAttend the 30 minute Zoom lecture ‘Be Careful What You Wish For\, Expanded Public Health Ins’ on June 10 at 10:00 Eastern Time / 9:00 Central \n\nJoin Zoom Meeting\nhttps://us02web.zoom.us/j/89348571951?pwd=nXWYrVyE8H8rd6UmUHtbUfVfFkD0vQ.1\nGary Fradin will discuss some key structural problems with national single payer health insurance.\n\nTake the exams on the 2 texts listed after the lecture. \n\nAbout 30 minutes / exam. Graded immediately. Retakes available as necessary. Finish by end-of-work on June 10.\nYou will receive detailed exam access instructions a few days in advance.\n\nMoney back guarantee: We will refund your money if\, for any reason\, you do not like this program. This offer extends up to the time we report credits. \n***** \nProcessing your order will take about 15 seconds. Do not refresh or reorder while you wait. The site will tell you when your order is complete. You will also receive confirmation by email.
URL:https://www.healthinsurancece.com/event/june-10-be-careful-what-you-wish-for-part-ii-24-tennessee-credits-including-ethics/
LOCATION:Zoom\, Your office\, Your city
CATEGORIES:Tennessee
END:VEVENT
BEGIN:VEVENT
DTSTART;TZID=America/New_York:20260717T090000
DTEND;TZID=America/New_York:20261024T110000
DTSTAMP:20260423T191823
CREATED:20260409T164107Z
LAST-MODIFIED:20260409T164720Z
UID:30062-1784278800-1792839600@www.healthinsurancece.com
SUMMARY:July 15 - Be Careful What You Wish For\, Expanded Public Health Ins (24 Tennessee credits including ethics)
DESCRIPTION:Can a Medicare for All type single payer system solve our healthcare problems? Follow this simple 3-step process. \nRead these texts \n\nHealth Insurance Overview\, 24 credits\, Tennessee course #6000190629\, pdf on this website under Texts after you login.\nEthical Insurance Advising II\, 3 ethics credits\, Tennessee course #6000192476\, pdf available on this website under Texts after you login.\n\nAttend the 30 minute Zoom lecture ‘Be Careful What You Wish For\, Expanded Public Health Ins’ on July 15 at 10:00 Eastern Time / 9:00 Central \n\nJoin Zoom Meeting\nhttps://us02web.zoom.us/j/86477893191?pwd=2fVCigiRc9bnlbFnAEiMKgPNwPFxaO.1\nGary Fradin will discuss some key structural problems with national single payer health insurance.\n\nTake the exams on the 2 texts listed after the lecture. \n\nAbout 30 minutes / exam. Graded immediately. Retakes available as necessary. Finish by end-of-work on July 15.\nYou will receive detailed exam access instructions a few days in advance.\n\nMoney back guarantee: We will refund your money if\, for any reason\, you do not like this program. This offer extends up to the time we report credits. \n***** \nProcessing your order will take about 15 seconds. Do not refresh or reorder while you wait. The site will tell you when your order is complete. You will also receive confirmation by email.
URL:https://www.healthinsurancece.com/event/july-15-be-careful-what-you-wish-for-expanded-public-health-ins-24-tennessee-credits-including-ethics/
LOCATION:Zoom\, Your office\, Your city
CATEGORIES:Tennessee
END:VEVENT
END:VCALENDAR